View In:
ArcGIS JavaScript
ArcGIS Online Map Viewer
ArcGIS Earth
ArcMap
ArcGIS Pro
View Footprint In:
ArcGIS Online Map Viewer
Service Description: ambiti rafforzamento
ambiti RVR
RVR_E_CONNESSIONI_simbologie_standard
Map Name: RVR_E_CONNESSIONI_simbologie_standard
Legend
All Layers and Tables
Layers:
Description: ambiti rafforzamento
ambiti RVR
RVR_E_CONNESSIONI_simbologie_standard
Service Item Id: 5bca41059c7e4fbebff67e822fe67ee3
Copyright Text:
Spatial Reference:
102100
(3857)
Single Fused Map Cache: true
Tile Info:
- Height: 256
- Width: 256
- DPI: 96
-
Levels of Detail: 24
-
Level ID: 1
[ Start Tile, End Tile ]
- Resolution: 78271.5169639999
- Scale: 2.95828763795777E8
-
Level ID: 2
[ Start Tile, End Tile ]
- Resolution: 39135.7584820001
- Scale: 1.47914381897889E8
-
Level ID: 3
[ Start Tile, End Tile ]
- Resolution: 19567.8792409999
- Scale: 7.3957190948944E7
-
Level ID: 4
[ Start Tile, End Tile ]
- Resolution: 9783.93962049996
- Scale: 3.6978595474472E7
-
Level ID: 5
[ Start Tile, End Tile ]
- Resolution: 4891.96981024998
- Scale: 1.8489297737236E7
- Format: PNG
- Compression Quality: 0.0
- Origin: X: -2.0037508342787E7
Y: 2.0037508342787E7
- Spatial Reference: 102100
(3857)
Initial Extent:
XMin: 1053839.702950332
YMin: 5700791.820882913
XMax: 1062016.667220927
YMax: 5708431.6799126305
Spatial Reference: 102100
Full Extent:
XMin: 944855.8756993569
YMin: 5567324.475875362
XMax: 1280384.225616878
YMax: 5881322.493321455
Spatial Reference: 102100
Units: esriMeters
Supported Image Format Types: PNG32,PNG24,PNG,JPG,DIB,TIFF,EMF,PS,PDF,GIF,SVG,SVGZ,BMP
Document Info:
Title: RVR_E_CONNESSIONI_simbologie_standard
Author:
Comments: <DIV STYLE="text-align:Left;font-size:12pt"><DIV><DIV><P><SPAN>ambiti rafforzamento</SPAN></P><P><SPAN>ambiti RVR</SPAN></P><P><SPAN>RVR_E_CONNESSIONI_simbologie_standard</SPAN></P></DIV></DIV></DIV>
Subject:
Category:
Keywords:
AntialiasingMode: Fast
TextAntialiasingMode: Force
Supports Dynamic Layers: false
MaxRecordCount: 1000
MaxImageHeight: 4096
MaxImageWidth: 4096
Supported Query Formats: JSON, geoJSON, PBF
Supports Query Data Elements: true
Min Scale: 4622324.434309
Max Scale: 72223.819286
Supports Datum Transformation: true
Child Resources:
Info
Supported Operations:
Return Updates